BEGIN:VCALENDAR
VERSION:2.0
PRODID:-//I-Tsu-La Lodge - ECPv6.15.20//NONSGML v1.0//EN
CALSCALE:GREGORIAN
METHOD:PUBLISH
X-ORIGINAL-URL:https://i-tsu-la.org
X-WR-CALDESC:Events for I-Tsu-La Lodge
REFRESH-INTERVAL;VALUE=DURATION:PT1H
X-Robots-Tag:noindex
X-PUBLISHED-TTL:PT1H
BEGIN:VTIMEZONE
TZID:UTC
BEGIN:STANDARD
TZOFFSETFROM:+0000
TZOFFSETTO:+0000
TZNAME:UTC
DTSTART:20230101T000000
END:STANDARD
END:VTIMEZONE
BEGIN:VEVENT
DTSTART;TZID=UTC:20251107T080000
DTEND;TZID=UTC:20251109T170000
DTSTAMP:20260423T145442
CREATED:20241208T011357Z
LAST-MODIFIED:20241208T011527Z
UID:167-1762502400-1762707600@i-tsu-la.org
SUMMARY:Winter Ordeal
DESCRIPTION:Induction of new members\, Brotherhood for members of 6 months or greater\, Adult & Youth business meeting. \nUniform Expectations:\nField uniform required for assemblies and Lodge business on Saturday.
URL:https://i-tsu-la.org/event/winter-ordeal/
LOCATION:Black Creek Scout Reservation\, 850 Poor Robin Rd.\, Sylvania\, GA\, 30467\, United States
CATEGORIES:Ordeal,Service
END:VEVENT
BEGIN:VEVENT
DTSTART;TZID=UTC:20251004T080000
DTEND;TZID=UTC:20251004T170000
DTSTAMP:20260423T145442
CREATED:20241208T011241Z
LAST-MODIFIED:20241208T011505Z
UID:165-1759564800-1759597200@i-tsu-la.org
SUMMARY:OA Workday at BCSR
DESCRIPTION:FREE Lunch – More Details TBA \nCome help prep for Cub Scouts Haunted Trail
URL:https://i-tsu-la.org/event/oa-workday-at-bcsr/
LOCATION:Black Creek Scout Reservation\, 850 Poor Robin Rd.\, Sylvania\, GA\, 30467\, United States
CATEGORIES:Service
END:VEVENT
BEGIN:VEVENT
DTSTART;TZID=UTC:20250516T000000
DTEND;TZID=UTC:20250518T235959
DTSTAMP:20260423T145442
CREATED:20240914T235237Z
LAST-MODIFIED:20241208T010925Z
UID:64-1747353600-1747612799@i-tsu-la.org
SUMMARY:Summer Ordeal
DESCRIPTION:Induction of new members\, Brotherhood for members of 6 months or greater\, Adult & Youth business meeting. \nUniform Expectations:\nField uniform required for assemblies and Lodge business on Saturday. \nRegistration Deadline 5/2
URL:https://i-tsu-la.org/event/summer-ordeal/
LOCATION:Black Creek Scout Reservation\, 850 Poor Robin Rd.\, Sylvania\, GA\, 30467\, United States
CATEGORIES:Ordeal,Service
END:VEVENT
BEGIN:VEVENT
DTSTART;TZID=UTC:20241206T000000
DTEND;TZID=UTC:20241208T235959
DTSTAMP:20260423T145442
CREATED:20240914T234640Z
LAST-MODIFIED:20241207T194310Z
UID:56-1733443200-1733702399@i-tsu-la.org
SUMMARY:Fall Ordeal
DESCRIPTION:Induction of new members\, Brotherhood for members of 6 months or greater\, Adult & Youth business meeting. \nUniform Expectations:\nField uniform required for assemblies and Lodge business on Saturday.
URL:https://i-tsu-la.org/event/fall-ordeal/
LOCATION:Black Creek Scout Reservation\, 850 Poor Robin Rd.\, Sylvania\, GA\, 30467\, United States
CATEGORIES:Ordeal,Service
END:VEVENT
BEGIN:VEVENT
DTSTART;TZID=UTC:20241018T000000
DTEND;TZID=UTC:20241020T235959
DTSTAMP:20260423T145442
CREATED:20240914T234522Z
LAST-MODIFIED:20240914T234522Z
UID:54-1729209600-1729468799@i-tsu-la.org
SUMMARY:Cub Scouts Haunted Trail
DESCRIPTION:Service Activity \nDetails TBD
URL:https://i-tsu-la.org/event/cub-scouts-haunted-trail/
LOCATION:Black Creek Scout Reservation\, 850 Poor Robin Rd.\, Sylvania\, GA\, 30467\, United States
CATEGORIES:Service
END:VEVENT
BEGIN:VEVENT
DTSTART;TZID=UTC:20241004T000000
DTEND;TZID=UTC:20241006T235959
DTSTAMP:20260423T145442
CREATED:20240914T234421Z
LAST-MODIFIED:20240914T234421Z
UID:48-1728000000-1728259199@i-tsu-la.org
SUMMARY:Haunted Trail Work Weekend
DESCRIPTION:Service Activity \nDetails TBA
URL:https://i-tsu-la.org/event/haunted-trail-work-weekend/
LOCATION:Black Creek Scout Reservation\, 850 Poor Robin Rd.\, Sylvania\, GA\, 30467\, United States
CATEGORIES:Service
END:VEVENT
END:VCALENDAR