BEGIN:VCALENDAR
VERSION:2.0
PRODID:-//I-Tsu-La Lodge - ECPv6.15.20//NONSGML v1.0//EN
CALSCALE:GREGORIAN
METHOD:PUBLISH
X-WR-CALNAME:I-Tsu-La Lodge
X-ORIGINAL-URL:https://i-tsu-la.org
X-WR-CALDESC:Events for I-Tsu-La Lodge
REFRESH-INTERVAL;VALUE=DURATION:PT1H
X-Robots-Tag:noindex
X-PUBLISHED-TTL:PT1H
BEGIN:VTIMEZONE
TZID:UTC
BEGIN:STANDARD
TZOFFSETFROM:+0000
TZOFFSETTO:+0000
TZNAME:UTC
DTSTART:20230101T000000
END:STANDARD
END:VTIMEZONE
BEGIN:VEVENT
DTSTART;TZID=UTC:20250905T080000
DTEND;TZID=UTC:20250907T170000
DTSTAMP:20260423T145401
CREATED:20241208T011115Z
LAST-MODIFIED:20241208T011740Z
UID:163-1757059200-1757264400@i-tsu-la.org
SUMMARY:Fall Fellowship
DESCRIPTION:
URL:https://i-tsu-la.org/event/fall-fellowship-2/
LOCATION:Black Creek Scout Reservation\, 850 Poor Robin Rd.\, Sylvania\, GA\, 30467\, United States
CATEGORIES:Fellowship
END:VEVENT
BEGIN:VEVENT
DTSTART;TZID=UTC:20250307T000000
DTEND;TZID=UTC:20250309T235959
DTSTAMP:20260423T145401
CREATED:20240914T235114Z
LAST-MODIFIED:20241208T011711Z
UID:62-1741305600-1741564799@i-tsu-la.org
SUMMARY:Spring Fellowship
DESCRIPTION:Registration Deadline 2/28
URL:https://i-tsu-la.org/event/spring-fellowship/
LOCATION:Black Creek Scout Reservation\, 850 Poor Robin Rd.\, Sylvania\, GA\, 30467\, United States
CATEGORIES:Fellowship
END:VEVENT
BEGIN:VEVENT
DTSTART;TZID=UTC:20250202T110000
DTEND;TZID=UTC:20250202T140000
DTSTAMP:20260423T145401
CREATED:20240914T234806Z
LAST-MODIFIED:20241208T010718Z
UID:59-1738494000-1738504800@i-tsu-la.org
SUMMARY:OA Banquet
DESCRIPTION:OA Banquet will be lunch following the Family Scout Freeze Out in the Reese Dining Hall. \nField uniforms required. NO WALK INS! \nRegistration Deadline 12/24
URL:https://i-tsu-la.org/event/oa-banquet/
LOCATION:Black Creek Scout Reservation\, 850 Poor Robin Rd.\, Sylvania\, GA\, 30467\, United States
CATEGORIES:Fellowship
END:VEVENT
BEGIN:VEVENT
DTSTART;TZID=UTC:20250110T170000
DTEND;TZID=UTC:20250112T170000
DTSTAMP:20260423T145401
CREATED:20241208T012402Z
LAST-MODIFIED:20241208T012533Z
UID:169-1736528400-1736701200@i-tsu-la.org
SUMMARY:Indian Winter
DESCRIPTION:Indian Winter is a weekend event geared towards American Indian Activities (AIA)\, leadership development\, and fellowship. With a wide variety of trainings\, there are many different activities and classes to participate in. \nThis year’s event will be hosted by Aracoma Lodge at Camp Horne in Cottondale\, AL\, January 10-12th\, 2025.
URL:https://i-tsu-la.org/event/indian-winter/
LOCATION:Camp Horne\, 13633 Keenes Mill Rd\, Cottondale\, AL\, 35453\, United States
CATEGORIES:Fellowship
END:VEVENT
BEGIN:VEVENT
DTSTART;TZID=UTC:20240913T180000
DTEND;TZID=UTC:20240915T110000
DTSTAMP:20260423T145401
CREATED:20240914T232846Z
LAST-MODIFIED:20240914T233535Z
UID:39-1726250400-1726398000@i-tsu-la.org
SUMMARY:Fall Fellowship
DESCRIPTION:Activities: \n\nRifle and Archery\nKayak River Trek\nLodge Leadership Development\nLodge Elections\nFishing Educator training\n\nUniform Expectations \n\nLodge T-shirts daytime wear\nUniform and Sash dinner
URL:https://i-tsu-la.org/event/fall-fellowship/
LOCATION:Black Creek Scout Reservation\, 850 Poor Robin Rd.\, Sylvania\, GA\, 30467\, United States
CATEGORIES:Fellowship
END:VEVENT
END:VCALENDAR